
BEGIN:VCALENDAR
VERSION:2.0
PRODID:-//wp-events-plugin.com//7.2.3.1//EN
BEGIN:VEVENT
UID:23@casamericalatina.pt
DTSTART;VALUE=DATE:20250926
DTEND;VALUE=DATE:20250929
DTSTAMP:20250916T111531Z
URL:https://casamericalatina.pt/agenda/viii-mercado-da-america-latina/
SUMMARY:VIII Mercado da América Latina
DESCRIPTION:A Casa da América Latina e a Câmara Municipal de Cascais\, co
 m o apoio das embaixadas latino-americanas suas associadas\, organizam\, p
 elo oitavo ano consecutivo\, o Mercado da América Latina. Este ano\, a fe
 sta latino-americana vai decorrer nos dias 26\, 27 e 28 de setembro\, na F
 IARTIL – Feira Internacional de Artesanato do Estoril.\n\nO projeto apre
 senta uma fusão das sonoridades portuguesa e indígena brasileira\, mistu
 rando instrumentos de tradição europeia\, portuguesa e indígena\, inspi
 rado-se nos sons das “marés” e das “matas”\, recordando as relaç
 ões Brasil / Portugal e aludindo aos recursos naturais dos territórios d
 a Madeira e do Estado do Mato Grosso do Sul.\n\nO espetáculo\, que també
 m visitará a ilha da Madeira\, será apresentado na Casa da América Lati
 na a 29 de agosto\, dia em que se celebram os 200 anos do Tratado de Paz\,
  Amizade e Aliança\, no qual Portugal reconheceu o Brasil enquanto país 
 independente.
LOCATION:FIARTIL\, Av. Amaral\, 2765-192\, Estoril\, Portugal
X-APPLE-STRUCTURED-LOCATION;VALUE=URI;X-ADDRESS=Av. Amaral\, 2765-192\, Est
 oril\, Portugal;X-APPLE-RADIUS=100;X-TITLE=FIARTIL:geo:0,0
END:VEVENT
END:VCALENDAR