
BEGIN:VCALENDAR
VERSION:2.0
PRODID:-//wp-events-plugin.com//7.2.3.1//EN
BEGIN:VEVENT
UID:2@casamericalatina.pt
DTSTART:20241207T090000Z
DTEND:20241217T190000Z
DTSTAMP:20241210T104949Z
URL:https://casamericalatina.pt/agenda/um-natal-a-moda-da-america-latina/
SUMMARY:UM NATAL À MODA DA AMÉRICA LATINA
DESCRIPTION:O cinema cubano tem sido um laboratório dinâmico para testar 
 estéticas e discursos experimentais e alternativos que contribuíram de f
 orma central para o chamado Novo Cinema Latino-Americano.
LOCATION:Junta de Freguesia de Alvalade\, Av. Rio de Janeiro\, Lisboa\, Por
 tugal\, 1700-330\, Lisboa\, Portugal
X-APPLE-STRUCTURED-LOCATION;VALUE=URI;X-ADDRESS=Av. Rio de Janeiro\, Lisboa
 \, Portugal\, 1700-330\, Lisboa\, Portugal;X-APPLE-RADIUS=100;X-TITLE=Junt
 a de Freguesia de Alvalade:geo:0,0
END:VEVENT
END:VCALENDAR