
BEGIN:VCALENDAR
VERSION:2.0
PRODID:-//wp-events-plugin.com//7.2.3.1//EN
BEGIN:VEVENT
UID:20@casamericalatina.pt
DTSTART:20250626T153000Z
DTEND:20250626T183000Z
DTSTAMP:20250611T134059Z
URL:https://casamericalatina.pt/agenda/seminario-a-uniao-europeia-a-americ
 a-latina-e-as-caraibas-para-alem-do-dialogo/
SUMMARY:Seminário "A União Europeia\, a América Latina e as Caraíbas: p
 ara além do diálogo"
DESCRIPTION:[vc_row type="in_container" full_screen_row_position="middle" c
 olumn_margin="default" column_direction="default" column_direction_tablet=
 "default" column_direction_phone="default" scene_position="center" text_co
 lor="dark" text_align="left" row_border_radius="none" row_border_radius_ap
 plies="bg" overflow="visible" overlay_strength="0.3" gradient_direction="l
 eft_to_right" shape_divider_position="bottom" bg_image_animation="none" gr
 adient_type="default" shape_type=""][vc_column right_padding_desktop="5%" 
 column_element_direction_desktop="default" column_element_spacing="default
 " desktop_text_alignment="default" tablet_text_alignment="default" phone_t
 ext_alignment="default" background_color_opacity="1" background_hover_colo
 r_opacity="1" column_backdrop_filter="none" column_shadow="none" column_bo
 rder_radius="none" column_link_target="_self" column_position="default" gr
 adient_direction="left_to_right" overlay_strength="0.3" width="1/2" tablet
 _width_inherit="default" animation_type="default" bg_image_animation="none
 " border_type="simple" column_border_width="none" column_border_style="sol
 id" column_padding_type="advanced" gradient_type="default"][vc_custom_head
 ing source="post_title" font_container="tag:h1|font_size:18px|text_align:l
 eft" use_theme_fonts="yes" css=""][vc_column_text css="" text_direction="d
 efault"]No próximo dia 26 de junho\, a Casa da América Latina em Lisboa 
 acolhe o VII Seminário Euroamérica\, promovido em parceria com a Fundaci
 ón Euroamérica e a Fundación EU-LAC\, com o apoio da Câmara Municipal 
 de Lisboa\, intitulado "A União Europeia\, a América Latina e as Caraíb
 as: para além do diálogo".\n\nEste encontro visa reforçar o diálogo e 
 a cooperação entre a União Europeia e a América Latina e as Caraíbas\
 , abordando temas estratégicos para o futuro das relações entre os dois
  blocos. Num contexto internacional tão complexo como o atual\, é fundam
 ental criar novas alianças estratégicas com regiões do mundo com as qua
 is se partilha valores e princípios\, a fim de enfrentar conjuntamente no
 vos e incertos desafios. Por esta razão\, talvez seja o momento para as i
 nstituições europeias olharem para a América Latina e as Caraíbas como
  o seu principal parceiro estratégico.\n\nO seminário contará com a pre
 sença de Carlos Moedas\, Presidente da Câmara Municipal de Lisboa e da C
 asa da América Latina\, Francisco Assis\, Eurodeputado\, Ramón Jáuregui
 \, Presidente da Fundación Euroamérica\, entre outros "euroespecialistas
 ".\n\nA programação contempla três sessões principais:\n\n→ Primeira
  sessão: Definição de prioridades e objetivos para a agenda da próxima
  Cimeira UE-CELAC\, com intervenções de representantes do Ministério da
 s Relações Exteriores da Colômbia\, do Serviço Europeu de Ação Exter
 na e do CAF – Banco de Desenvolvimento da América Latina e do Caribe\n\
 n→ Segunda sessão: Oportunidades e desafios em torno do Acordo de Assoc
 iação União Europeia – Mercosul\, e toda a cadeia produtiva associada
  a este instrumento\, de ambos os lados do Atlântico\, com a participaç
 ão de Francisco Assis (Parlamento Europeu)\, Paolo Garzotti (Comissão Eu
 ropeia)\, Paulo Matheus (APEX Brasil) e representantes de empresas portugu
 esas com presença no Mercosul.\n\n→ Terceira sessão: Oportunidades e d
 esenvolvimento do setor agroalimentar em ambos os lados do Atlântico: de
 stacando a logística\, distribuição e segurança alimentar\, avaliando 
 eficiência e complementaridades das respetivas cadeias de produção. Par
 ticipam representantes de Portugal\, Argentina\, SIMAB -  Sociedade Insta
 ladora de Mercados Abastecedores\, S. A.\, Companhia das Lezírias S.A.\, 
 entre outros.\n\nEste evento é uma oportunidade única para debater temas
 -chave como o multilateralismo\, as complementaridades das cadeias de prod
 ução e o papel das empresas e instituições no reforço da parceria tra
 nsatlântica.[/vc_column_text][vc_column_text css=".vc_custom_174964922294
 4{padding-top: 5px !important\;}" text_direction="default"]\nPROGRAMA E IN
 SCRIÇÕES AQUI:\n[/vc_column_text][vc_row_inner column_margin="default" c
 olumn_direction="default" column_direction_tablet="default" column_directi
 on_phone="default" text_align="left" row_position="default" row_position_t
 ablet="inherit" row_position_phone="inherit" overflow="visible" pointer_ev
 ents="all"][vc_column_inner column_padding="no-extra-padding" column_paddi
 ng_tablet="inherit" column_padding_phone="inherit" column_padding_position
 ="all" column_element_direction_desktop="default" column_element_spacing="
 default" desktop_text_alignment="default" tablet_text_alignment="default" 
 phone_text_alignment="default" background_color_opacity="1" background_hov
 er_color_opacity="1" column_backdrop_filter="none" column_shadow="none" co
 lumn_border_radius="none" column_link_target="_self" overflow="visible" gr
 adient_direction="left_to_right" overlay_strength="0.3" width="1/2" tablet
 _width_inherit="default" animation_type="default" bg_image_animation="none
 " border_type="simple" column_border_width="none" column_border_style="sol
 id"][nectar_btn size="small" open_new_tab="true" button_style="see-through
 -2" color_override="#000000" hover_color_override="#ff620b" hover_text_col
 or_override="#ffffff" icon_family="none" el_class="saberMais" text="Progra
 ma/Inscrições" url="https://www.euroamerica.org/pt/vii-seminario-em-lisb
 oa"][/vc_column_inner][vc_column_inner column_padding="no-extra-padding" c
 olumn_padding_tablet="inherit" column_padding_phone="inherit" column_paddi
 ng_position="all" column_element_direction_desktop="default" column_elemen
 t_spacing="default" desktop_text_alignment="default" tablet_text_alignment
 ="default" phone_text_alignment="default" background_color_opacity="1" bac
 kground_hover_color_opacity="1" column_backdrop_filter="none" column_shado
 w="none" column_border_radius="none" column_link_target="_self" overflow="
 visible" gradient_direction="left_to_right" overlay_strength="0.3" width="
 1/2" tablet_width_inherit="default" animation_type="default" bg_image_anim
 ation="none" border_type="simple" column_border_width="none" column_border
 _style="solid"][/vc_column_inner][/vc_row_inner][/vc_column][vc_column col
 umn_padding="no-extra-padding" column_padding_tablet="inherit" column_padd
 ing_phone="inherit" column_padding_position="all" column_element_direction
 _desktop="default" column_element_spacing="default" desktop_text_alignment
 ="default" tablet_text_alignment="default" phone_text_alignment="default" 
 background_color_opacity="1" background_hover_color_opacity="1" column_bac
 kdrop_filter="none" column_shadow="none" column_border_radius="none" colum
 n_link_target="_self" column_position="default" gradient_direction="left_t
 o_right" overlay_strength="0.3" width="1/2" tablet_width_inherit="default"
  animation_type="default" bg_image_animation="none" border_type="simple" c
 olumn_border_width="none" column_border_style="solid"][vc_raw_html css=""]
 JTNDaWZyYW1lJTIwc3JjJTNEJTIyaHR0cHMlM0ElMkYlMkZ3d3cuZ29vZ2xlLmNvbSUyRm1hcH
 MlMkZlbWJlZCUzRnBiJTNEJTIxMW0xOCUyMTFtMTIlMjExbTMlMjExZDMxNzguNzkxNjU3NzYw
 MDU3JTIxMmQtOS4xOTY2MzA4MjM5OTkyNDglMjEzZDM4LjY5NjcxOTU3MTc2NzY0JTIxMm0zJT
 IxMWYwJTIxMmYwJTIxM2YwJTIxM20yJTIxMWkxMDI0JTIxMmk3NjglMjE0ZjEzLjElMjEzbTMl
 MjExbTIlMjExczB4ZDE5MzQ5OTc1MjA4Y2JiJTI1M0EweGNlMGJmY2Y2NWEwMzkyNDElMjEyc0
 Nhc2ElMjUyMERhJTI1MjBBbSUyNUMzJTI1QTlyaWNhJTI1MjBMYXRpbmElMjUyMC0lMjUyMEFz
 c29jaWElMjVDMyUyNUE3JTI1QzMlMjVBM28lMjE1ZTElMjEzbTIlMjExc3B0LVBUJTIxMnNwdC
 UyMTR2MTcyOTY5MjI1MjUyOCUyMTVtMiUyMTFzcHQtUFQlMjEyc3B0JTIyJTIwd2lkdGglM0Ql
 MjI2MDAlMjIlMjBoZWlnaHQlM0QlMjI0NTAlMjIlMjBzdHlsZSUzRCUyMmJvcmRlciUzQTAlM0
 IlMjIlMjBhbGxvd2Z1bGxzY3JlZW4lM0QlMjIlMjIlMjBsb2FkaW5nJTNEJTIybGF6eSUyMiUy
 MHJlZmVycmVycG9saWN5JTNEJTIybm8tcmVmZXJyZXItd2hlbi1kb3duZ3JhZGUlMjIlM0UlM0
 MlMkZpZnJhbWUlM0U=[/vc_raw_html][image_with_animation image_url="11613" im
 age_size="full" animation_type="entrance" animation="None" animation_movem
 ent_type="transform_y" hover_animation="none" alignment="" border_radius="
 none" box_shadow="none" image_loading="default" max_width="100%" max_width
 _mobile="default"][/vc_column][/vc_row]
LOCATION:Casa da América Latina\, Avenida da Índia 110\, Lisboa\, Portuga
 l\, 1300-300\, Lisboa\, Portugal
X-APPLE-STRUCTURED-LOCATION;VALUE=URI;X-ADDRESS=Avenida da Índia 110\, Lis
 boa\, Portugal\, 1300-300\, Lisboa\, Portugal;X-APPLE-RADIUS=100;X-TITLE=C
 asa da América Latina:geo:0,0
END:VEVENT
END:VCALENDAR