
BEGIN:VCALENDAR
VERSION:2.0
PRODID:-//wp-events-plugin.com//7.2.3.1//EN
BEGIN:VEVENT
UID:44@casamericalatina.pt
DTSTART:20260416T190000Z
DTEND:20260416T213000Z
DTSTAMP:20260406T113908Z
URL:https://casamericalatina.pt/agenda/orquestra-metropolitana-de-lisboa-n
 a-casa-das-galeotas/
SUMMARY:Orquestra Metropolitana de Lisboa na Casa das Galeotas
DESCRIPTION:[vc_row type="in_container" full_screen_row_position="middle" c
 olumn_margin="default" column_direction="default" column_direction_tablet=
 "default" column_direction_phone="default" scene_position="center" text_co
 lor="dark" text_align="left" row_border_radius="none" row_border_radius_ap
 plies="bg" overflow="visible" overlay_strength="0.3" gradient_direction="l
 eft_to_right" shape_divider_position="bottom" bg_image_animation="none" gr
 adient_type="default" shape_type=""][vc_column right_padding_desktop="5%" 
 column_element_direction_desktop="default" column_element_spacing="default
 " desktop_text_alignment="default" tablet_text_alignment="default" phone_t
 ext_alignment="default" background_color_opacity="1" background_hover_colo
 r_opacity="1" column_backdrop_filter="none" column_shadow="none" column_bo
 rder_radius="none" column_link_target="_self" column_position="default" gr
 adient_direction="left_to_right" overlay_strength="0.3" width="1/2" tablet
 _width_inherit="default" animation_type="default" bg_image_animation="none
 " border_type="simple" column_border_width="none" column_border_style="sol
 id" column_padding_type="advanced" gradient_type="default"][vc_custom_head
 ing source="post_title" font_container="tag:h1|font_size:18px|text_align:l
 eft" use_theme_fonts="yes" css=""][vc_column_text css="" text_direction="d
 efault"]Quartetos Americanos\, o primeiro de dois concertos que os Solista
 s da Orquestra Metropolitana de Lisboa trarão à Casa da América Latina 
 durante este ano.[/vc_column_text][vc_column_text css="" text_direction="d
 efault"]A Casa da América Latina recebe Quartetos Americanos\, o primeiro
  de dois concertos que os Solistas da Orquestra Metropolitana de Lisboa tr
 arão à Casa das Galeotas durante este ano. Num programa focado na músic
 a de fusão\, este concerto surge como ponto de partida do quarteto de co
 rdas\, uma das formações instrumentais mais distintivas da tradição cl
 ássica europeia\, e a sua reinterpretação sob a influência latino-amer
 icana.\n\nQuartetos Americanos\, quinta-feira\, 16 de abril\, às 19h00\, 
 na Casa da América Latina.\n\n*Pode reservar o seu bilhete através do e-
 mail relacoespublicas@metropolitana.pt ou comprá-lo no próprio local.[/
 vc_column_text][image_with_animation image_url="13460" image_size="medium_
 large" animation_type="entrance" animation="None" animation_movement_type=
 "transform_y" hover_animation="none" alignment="" border_radius="none" box
 _shadow="none" image_loading="default" max_width="100%" max_width_mobile="
 default"][/vc_column][vc_column column_padding="no-extra-padding" column_p
 adding_tablet="inherit" column_padding_phone="inherit" column_padding_posi
 tion="all" column_element_direction_desktop="default" column_element_spaci
 ng="default" desktop_text_alignment="default" tablet_text_alignment="defau
 lt" phone_text_alignment="default" background_color_opacity="1" background
 _hover_color_opacity="1" column_backdrop_filter="none" column_shadow="none
 " column_border_radius="none" column_link_target="_self" column_position="
 default" gradient_direction="left_to_right" overlay_strength="0.3" width="
 1/2" tablet_width_inherit="default" animation_type="default" bg_image_anim
 ation="none" border_type="simple" column_border_width="none" column_border
 _style="solid"][vc_raw_html css=""]JTNDaWZyYW1lJTIwc3JjJTNEJTIyaHR0cHMlM0E
 lMkYlMkZ3d3cuZ29vZ2xlLmNvbSUyRm1hcHMlMkZlbWJlZCUzRnBiJTNEJTIxMW0xOCUyMTFtM
 TIlMjExbTMlMjExZDMxNzguNzkxNjU3NzYwMDU3JTIxMmQtOS4xOTY2MzA4MjM5OTkyNDglMjE
 zZDM4LjY5NjcxOTU3MTc2NzY0JTIxMm0zJTIxMWYwJTIxMmYwJTIxM2YwJTIxM20yJTIxMWkxM
 DI0JTIxMmk3NjglMjE0ZjEzLjElMjEzbTMlMjExbTIlMjExczB4ZDE5MzQ5OTc1MjA4Y2JiJTI
 1M0EweGNlMGJmY2Y2NWEwMzkyNDElMjEyc0Nhc2ElMjUyMERhJTI1MjBBbSUyNUMzJTI1QTlya
 WNhJTI1MjBMYXRpbmElMjUyMC0lMjUyMEFzc29jaWElMjVDMyUyNUE3JTI1QzMlMjVBM28lMjE
 1ZTElMjEzbTIlMjExc3B0LVBUJTIxMnNwdCUyMTR2MTcyOTY5MjI1MjUyOCUyMTVtMiUyMTFzc
 HQtUFQlMjEyc3B0JTIyJTIwd2lkdGglM0QlMjI2MDAlMjIlMjBoZWlnaHQlM0QlMjI0NTAlMjI
 lMjBzdHlsZSUzRCUyMmJvcmRlciUzQTAlM0IlMjIlMjBhbGxvd2Z1bGxzY3JlZW4lM0QlMjIlM
 jIlMjBsb2FkaW5nJTNEJTIybGF6eSUyMiUyMHJlZmVycmVycG9saWN5JTNEJTIybm8tcmVmZXJ
 yZXItd2hlbi1kb3duZ3JhZGUlMjIlM0UlM0MlMkZpZnJhbWUlM0U=[/vc_raw_html][/vc_co
 lumn][/vc_row]
LOCATION:Casa da América Latina\, Avenida da Índia 110\, Lisboa\, Portuga
 l\, 1300-300\, Lisboa\, Portugal
X-APPLE-STRUCTURED-LOCATION;VALUE=URI;X-ADDRESS=Avenida da Índia 110\, Lis
 boa\, Portugal\, 1300-300\, Lisboa\, Portugal;X-APPLE-RADIUS=100;X-TITLE=C
 asa da América Latina:geo:0,0
END:VEVENT
END:VCALENDAR