
BEGIN:VCALENDAR
VERSION:2.0
PRODID:-//wp-events-plugin.com//7.2.3.1//EN
BEGIN:VEVENT
UID:18@casamericalatina.pt
DTSTART;TZID=Europe/Lisbon:20250527T180000
DTEND;TZID=Europe/Lisbon:20250528T210000
DTSTAMP:20250526T090348Z
URL:https://casamericalatina.pt/agenda/mostra-de-cinema-argentino/
SUMMARY:Mostra de Cinema Argentino
DESCRIPTION:[vc_row type="in_container" full_screen_row_position="middle" c
 olumn_margin="default" column_direction="default" column_direction_tablet=
 "default" column_direction_phone="default" scene_position="center" text_co
 lor="dark" text_align="left" row_border_radius="none" row_border_radius_ap
 plies="bg" overflow="visible" overlay_strength="0.3" gradient_direction="l
 eft_to_right" shape_divider_position="bottom" bg_image_animation="none" gr
 adient_type="default" shape_type=""][vc_column right_padding_desktop="5%" 
 column_element_direction_desktop="default" column_element_spacing="default
 " desktop_text_alignment="default" tablet_text_alignment="default" phone_t
 ext_alignment="default" background_color_opacity="1" background_hover_colo
 r_opacity="1" column_backdrop_filter="none" column_shadow="none" column_bo
 rder_radius="none" column_link_target="_self" column_position="default" gr
 adient_direction="left_to_right" overlay_strength="0.3" width="1/2" tablet
 _width_inherit="default" animation_type="default" bg_image_animation="none
 " border_type="simple" column_border_width="none" column_border_style="sol
 id" column_padding_type="advanced" gradient_type="default"][vc_custom_head
 ing source="post_title" font_container="tag:h1|font_size:18px|text_align:l
 eft" use_theme_fonts="yes" css=""][vc_column_text css="" text_direction="d
 efault"]Cinema Argentino na CAL[/vc_column_text][vc_column_text css="" tex
 t_direction="default"]A Casa da América Latina recebe o Ciclo de Cinema A
 rgentino\, nos dias 27 e 28 de maio\, integrado na Semana Argentina\, com 
 três obras: "Las Manos"\, "El ciudadano ilustre" e "Cuando Acecha la mald
 ad". Tratam-se de produções argentinas que abordam temas relacionados co
 m a cultura\, história e sociedade do país. Representam diferentes aspet
 os da identidade argentina\, seja através de histórias pessoais\, críti
 cas sociais ou reflexões sobre o passado.\n\n▬ Entrada livre mediante i
 nscrição aqui\nPrograma\n27 mai. às 17h00\n"El ciudadano ilustre"\n\nUm
  escritor argentino e vencedor do Prêmio Nobel\, radicado há 40 anos na 
 Europa\, volta para sua terra natal\, ao povoado onde nasceu e que inspiro
 u a maioria de seus livros\, para receber o título de Cidadão Ilustre da
  cidade.\n\n(veja aqui o trailer)\n28 mai. às 16h00\n"Las Manos"\n\nDepoi
 s de ser banido da comunidade eclesiástica\, um padre de uma cidade peque
 na com poderes de curandeiro continua seu trabalho em uma vila rural.\n\n(
 veja aqui o trailer)\n\ne\n\n"Cuando Acecha la maldad"\n\nDois irmãos enc
 ontram um homem infectado pelo demónio prestes a dar à luz ao próprio m
 al. Na tentativa de se livrar desse homem\, os irmãos acabam ajudando a d
 esencadear o próprio inferno.\n\n(veja aqui o trailer)[/vc_column_text][v
 c_column_text css="" text_direction="default"][/vc_column_text][vc_row_inn
 er column_margin="default" column_direction="default" column_direction_tab
 let="default" column_direction_phone="default" text_align="left" row_posit
 ion="default" row_position_tablet="inherit" row_position_phone="inherit" o
 verflow="visible" pointer_events="all"][vc_column_inner column_padding="no
 -extra-padding" column_padding_tablet="inherit" column_padding_phone="inhe
 rit" column_padding_position="all" column_element_direction_desktop="defau
 lt" column_element_spacing="default" desktop_text_alignment="default" tabl
 et_text_alignment="default" phone_text_alignment="default" background_colo
 r_opacity="1" background_hover_color_opacity="1" column_backdrop_filter="n
 one" column_shadow="none" column_border_radius="none" column_link_target="
 _self" overflow="visible" gradient_direction="left_to_right" overlay_stren
 gth="0.3" width="1/2" tablet_width_inherit="default" animation_type="defau
 lt" bg_image_animation="none" border_type="simple" column_border_width="no
 ne" column_border_style="solid"][image_with_animation image_url="11499" im
 age_size="full" animation_type="entrance" animation="None" animation_movem
 ent_type="transform_y" hover_animation="none" alignment="" img_link_large=
 "yes" border_radius="none" box_shadow="none" image_loading="default" max_w
 idth="100%" max_width_mobile="default"][/vc_column_inner][vc_column_inner 
 column_padding="no-extra-padding" column_padding_tablet="inherit" column_p
 adding_phone="inherit" column_padding_position="all" column_element_direct
 ion_desktop="default" column_element_spacing="default" desktop_text_alignm
 ent="default" tablet_text_alignment="default" phone_text_alignment="defaul
 t" background_color_opacity="1" background_hover_color_opacity="1" column_
 backdrop_filter="none" column_shadow="none" column_border_radius="none" co
 lumn_link_target="_self" overflow="visible" gradient_direction="left_to_ri
 ght" overlay_strength="0.3" width="1/2" tablet_width_inherit="default" ani
 mation_type="default" bg_image_animation="none" border_type="simple" colum
 n_border_width="none" column_border_style="solid"][image_with_animation im
 age_url="11498" image_size="full" animation_type="entrance" animation="Non
 e" animation_movement_type="transform_y" hover_animation="none" alignment=
 "" img_link_large="yes" border_radius="none" box_shadow="none" image_loadi
 ng="default" max_width="100%" max_width_mobile="default"][/vc_column_inner
 ][/vc_row_inner][/vc_column][vc_column column_padding="no-extra-padding" c
 olumn_padding_tablet="inherit" column_padding_phone="inherit" column_paddi
 ng_position="all" column_element_direction_desktop="default" column_elemen
 t_spacing="default" desktop_text_alignment="default" tablet_text_alignment
 ="default" phone_text_alignment="default" background_color_opacity="1" bac
 kground_hover_color_opacity="1" column_backdrop_filter="none" column_shado
 w="none" column_border_radius="none" column_link_target="_self" column_pos
 ition="default" gradient_direction="left_to_right" overlay_strength="0.3" 
 width="1/2" tablet_width_inherit="default" animation_type="default" bg_ima
 ge_animation="none" border_type="simple" column_border_width="none" column
 _border_style="solid"][vc_raw_html css=""]JTNDaWZyYW1lJTIwc3JjJTNEJTIyaHR0
 cHMlM0ElMkYlMkZ3d3cuZ29vZ2xlLmNvbSUyRm1hcHMlMkZlbWJlZCUzRnBiJTNEJTIxMW0xOC
 UyMTFtMTIlMjExbTMlMjExZDMxNzguNzkxNjU3NzYwMDU3JTIxMmQtOS4xOTY2MzA4MjM5OTky
 NDglMjEzZDM4LjY5NjcxOTU3MTc2NzY0JTIxMm0zJTIxMWYwJTIxMmYwJTIxM2YwJTIxM20yJT
 IxMWkxMDI0JTIxMmk3NjglMjE0ZjEzLjElMjEzbTMlMjExbTIlMjExczB4ZDE5MzQ5OTc1MjA4
 Y2JiJTI1M0EweGNlMGJmY2Y2NWEwMzkyNDElMjEyc0Nhc2ElMjUyMERhJTI1MjBBbSUyNUMzJT
 I1QTlyaWNhJTI1MjBMYXRpbmElMjUyMC0lMjUyMEFzc29jaWElMjVDMyUyNUE3JTI1QzMlMjVB
 M28lMjE1ZTElMjEzbTIlMjExc3B0LVBUJTIxMnNwdCUyMTR2MTcyOTY5MjI1MjUyOCUyMTVtMi
 UyMTFzcHQtUFQlMjEyc3B0JTIyJTIwd2lkdGglM0QlMjI2MDAlMjIlMjBoZWlnaHQlM0QlMjI0
 NTAlMjIlMjBzdHlsZSUzRCUyMmJvcmRlciUzQTAlM0IlMjIlMjBhbGxvd2Z1bGxzY3JlZW4lM0
 QlMjIlMjIlMjBsb2FkaW5nJTNEJTIybGF6eSUyMiUyMHJlZmVycmVycG9saWN5JTNEJTIybm8t
 cmVmZXJyZXItd2hlbi1kb3duZ3JhZGUlMjIlM0UlM0MlMkZpZnJhbWUlM0U=[/vc_raw_html]
 [vc_row_inner column_margin="default" column_direction="default" column_di
 rection_tablet="default" column_direction_phone="default" text_align="left
 " row_position="default" row_position_tablet="inherit" row_position_phone=
 "inherit" overflow="visible" pointer_events="all"][vc_column_inner column_
 padding="no-extra-padding" column_padding_tablet="inherit" column_padding_
 phone="inherit" column_padding_position="all" column_element_direction_des
 ktop="default" column_element_spacing="default" desktop_text_alignment="de
 fault" tablet_text_alignment="default" phone_text_alignment="default" back
 ground_color_opacity="1" background_hover_color_opacity="1" column_backdro
 p_filter="none" column_shadow="none" column_border_radius="none" column_li
 nk_target="_self" overflow="visible" gradient_direction="left_to_right" ov
 erlay_strength="0.3" width="1/1" tablet_width_inherit="default" animation_
 type="default" bg_image_animation="none" border_type="simple" column_borde
 r_width="none" column_border_style="solid"][/vc_column_inner][/vc_row_inne
 r][vc_video link="https://www.youtube.com/watch?v=yTZPfrAIHAw" el_width="6
 0" css=""][vc_row_inner column_margin="default" column_direction="default"
  column_direction_tablet="default" column_direction_phone="default" text_a
 lign="left" row_position="default" row_position_tablet="inherit" row_posit
 ion_phone="inherit" overflow="visible" pointer_events="all"][vc_column_inn
 er column_padding="no-extra-padding" column_padding_tablet="inherit" colum
 n_padding_phone="inherit" column_padding_position="all" column_element_dir
 ection_desktop="default" column_element_spacing="default" desktop_text_ali
 gnment="default" tablet_text_alignment="default" phone_text_alignment="def
 ault" background_color_opacity="1" background_hover_color_opacity="1" colu
 mn_backdrop_filter="none" column_shadow="none" column_border_radius="none"
  column_link_target="_self" overflow="visible" gradient_direction="left_to
 _right" overlay_strength="0.3" width="1/1" tablet_width_inherit="default" 
 animation_type="default" bg_image_animation="none" border_type="simple" co
 lumn_border_width="none" column_border_style="solid"][/vc_column_inner][/v
 c_row_inner][vc_video link="https://www.youtube.com/watch?v=E5k4i6A0VUc" e
 l_width="60" css=""][vc_row_inner column_margin="default" column_direction
 ="default" column_direction_tablet="default" column_direction_phone="defau
 lt" text_align="left" row_position="default" row_position_tablet="inherit"
  row_position_phone="inherit" overflow="visible" pointer_events="all"][vc_
 column_inner column_padding="no-extra-padding" column_padding_tablet="inhe
 rit" column_padding_phone="inherit" column_padding_position="all" column_e
 lement_direction_desktop="default" column_element_spacing="default" deskto
 p_text_alignment="default" tablet_text_alignment="default" phone_text_alig
 nment="default" background_color_opacity="1" background_hover_color_opacit
 y="1" column_backdrop_filter="none" column_shadow="none" column_border_rad
 ius="none" column_link_target="_self" overflow="visible" gradient_directio
 n="left_to_right" overlay_strength="0.3" width="1/1" tablet_width_inherit=
 "default" animation_type="default" bg_image_animation="none" border_type="
 simple" column_border_width="none" column_border_style="solid"][/vc_column
 _inner][/vc_row_inner][vc_video link="https://www.youtube.com/watch?v=pOgZ
 -OJhwbc&amp\;t=2s" el_width="60" css=""][/vc_column][/vc_row]
LOCATION:Casa da América Latina\, Avenida da Índia 110\, Lisboa\, Portuga
 l\, 1300-300\, Lisboa\, Portugal
X-APPLE-STRUCTURED-LOCATION;VALUE=URI;X-ADDRESS=Avenida da Índia 110\, Lis
 boa\, Portugal\, 1300-300\, Lisboa\, Portugal;X-APPLE-RADIUS=100;X-TITLE=C
 asa da América Latina:geo:0,0
END:VEVENT
BEGIN:VTIMEZONE
TZID:Europe/Lisbon
X-LIC-LOCATION:Europe/Lisbon
BEGIN:DAYLIGHT
DTSTART:20250330T020000
TZOFFSETFROM:+0000
TZOFFSETTO:+0100
TZNAME:WEST
END:DAYLIGHT
END:VTIMEZONE
END:VCALENDAR