
BEGIN:VCALENDAR
VERSION:2.0
PRODID:-//wp-events-plugin.com//7.2.3.1//EN
BEGIN:VEVENT
UID:24@casamericalatina.pt
DTSTART:20251006T090000Z
DTEND:20251006T190000Z
DTSTAMP:20251002T132723Z
URL:https://casamericalatina.pt/agenda/i-conferencia-ibero-americana-de-pu
 blicidade-2025/
SUMMARY:I Conferência Ibero-Americana de Publicidade 2025
DESCRIPTION:A cidade de Lisboa foi escolhida para ser a sede europeia do I 
 Fórum Mulheres Mercosul-União Europeia\, que reunirá lideranças e auto
 ridades no dia 28 de outubro\, na Casa América Latina\, em Lisboa.
LOCATION:Casa da América Latina\, Avenida da Índia 110\, Lisboa\, Portuga
 l\, 1300-300\, Lisboa\, Portugal
X-APPLE-STRUCTURED-LOCATION;VALUE=URI;X-ADDRESS=Avenida da Índia 110\, Lis
 boa\, Portugal\, 1300-300\, Lisboa\, Portugal;X-APPLE-RADIUS=100;X-TITLE=C
 asa da América Latina:geo:0,0
END:VEVENT
END:VCALENDAR