
BEGIN:VCALENDAR
VERSION:2.0
PRODID:-//wp-events-plugin.com//7.2.3.1//EN
BEGIN:VEVENT
UID:21@casamericalatina.pt
DTSTART:20250725T190000Z
DTEND:20250725T213000Z
DTSTAMP:20250717T141246Z
URL:https://casamericalatina.pt/agenda/glauber-claro/
SUMMARY:GLAUBER\, CLARO
DESCRIPTION:[vc_row type="in_container" full_screen_row_position="middle" c
 olumn_margin="default" column_direction="default" column_direction_tablet=
 "default" column_direction_phone="default" scene_position="center" text_co
 lor="dark" text_align="left" row_border_radius="none" row_border_radius_ap
 plies="bg" overflow="visible" overlay_strength="0.3" gradient_direction="l
 eft_to_right" shape_divider_position="bottom" bg_image_animation="none" gr
 adient_type="default" shape_type=""][vc_column right_padding_desktop="5%" 
 column_element_direction_desktop="default" column_element_spacing="default
 " desktop_text_alignment="default" tablet_text_alignment="default" phone_t
 ext_alignment="default" background_color_opacity="1" background_hover_colo
 r_opacity="1" column_backdrop_filter="none" column_shadow="none" column_bo
 rder_radius="none" column_link_target="_self" column_position="default" gr
 adient_direction="left_to_right" overlay_strength="0.3" width="1/2" tablet
 _width_inherit="default" animation_type="default" bg_image_animation="none
 " border_type="simple" column_border_width="none" column_border_style="sol
 id" column_padding_type="advanced" gradient_type="default"][vc_custom_head
 ing source="post_title" font_container="tag:h1|font_size:18px|text_align:l
 eft" use_theme_fonts="yes" css=""][vc_column_text css="" text_direction="d
 efault"]Uma homenagem à figura mítica de Glauber Rocha no seu exílio na
  Itália e no seu penúltimo filme Claro.[/vc_column_text][vc_column_tex
 t css="" text_direction="default"]\nGLAUBER\, CLARO é um regresso quase m
 eio século depois na Roma vivida pelo maior expoente do cinema brasileiro
  Glauber Rocha\, no seu exílio italiano e fazendo uma reedição contempo
 rânea da narração e das locações romanas da sua penúltima longa-metr
 agem CLARO (1975).\nO filme - um misto de documentário histórico\, inves
 tigativo\, de meta-cinema\, de antropologia audiovisual\, filme de montage
 m\, cinema de arte e cinefilia - traz de volta Glauber Rocha e a sua gera
 ção\, revelando o limiar da sua criação através de um mosaico de narr
 ativas dos seus amigos\, colaboradores\, críticos e amores\, e até a sua
  fúria contra o Festival de Veneza 1980.\n\nGLAUBER\, CLARO\, deixa claro
  que além de ser o cineasta que mais pensou o Brasil\, revolucionou o cin
 ema.\nNão se curvava às regras\, não respeitava o status quo\, polemiz
 ou com a Europa\,com uma perspectiva diferente das coisas\, que via muito 
 além do seu tempo.\nGlorificado por uns\, odiado por outros\, mas quase s
 empre incompreendido\, Glauber deu uma contribuição essencial para a art
 e do cinema mundial.\nA cinematografia de Glauber Rocha\, em escala intern
 acional\, homenageou cineastas latino-americanos como poucos. Ajudou o cin
 ema a avançar porque apenas as pessoas que são apaixonadas e loucas o su
 ficiente para acreditar que podem mudar o mundo\, são aquelas que realmen
 te conseguem fazê-lo.\n[/vc_column_text][vc_column_text css="" text_direc
 tion="default"][/vc_column_text][image_with_animation image_url="11742" im
 age_size="full" animation_type="entrance" animation="None" animation_movem
 ent_type="transform_y" hover_animation="none" alignment="" border_radius="
 none" box_shadow="none" image_loading="default" max_width="100%" max_width
 _mobile="default"][vc_column_text css="" text_direction="default"]*Entrada
  disponível mediante lotação da sala.[/vc_column_text][/vc_column][vc_c
 olumn column_padding="no-extra-padding" column_padding_tablet="inherit" co
 lumn_padding_phone="inherit" column_padding_position="all" column_element_
 direction_desktop="default" column_element_spacing="default" desktop_text_
 alignment="default" tablet_text_alignment="default" phone_text_alignment="
 default" background_color_opacity="1" background_hover_color_opacity="1" c
 olumn_backdrop_filter="none" column_shadow="none" column_border_radius="no
 ne" column_link_target="_self" column_position="default" gradient_directio
 n="left_to_right" overlay_strength="0.3" width="1/2" tablet_width_inherit=
 "default" animation_type="default" bg_image_animation="none" border_type="
 simple" column_border_width="none" column_border_style="solid"][vc_raw_htm
 l css=""]JTNDaWZyYW1lJTIwc3JjJTNEJTIyaHR0cHMlM0ElMkYlMkZ3d3cuZ29vZ2xlLmNvb
 SUyRm1hcHMlMkZlbWJlZCUzRnBiJTNEJTIxMW0xOCUyMTFtMTIlMjExbTMlMjExZDMxNzguNzk
 xNjU3NzYwMDU3JTIxMmQtOS4xOTY2MzA4MjM5OTkyNDglMjEzZDM4LjY5NjcxOTU3MTc2NzY0J
 TIxMm0zJTIxMWYwJTIxMmYwJTIxM2YwJTIxM20yJTIxMWkxMDI0JTIxMmk3NjglMjE0ZjEzLjE
 lMjEzbTMlMjExbTIlMjExczB4ZDE5MzQ5OTc1MjA4Y2JiJTI1M0EweGNlMGJmY2Y2NWEwMzkyN
 DElMjEyc0Nhc2ElMjUyMERhJTI1MjBBbSUyNUMzJTI1QTlyaWNhJTI1MjBMYXRpbmElMjUyMC0
 lMjUyMEFzc29jaWElMjVDMyUyNUE3JTI1QzMlMjVBM28lMjE1ZTElMjEzbTIlMjExc3B0LVBUJ
 TIxMnNwdCUyMTR2MTcyOTY5MjI1MjUyOCUyMTVtMiUyMTFzcHQtUFQlMjEyc3B0JTIyJTIwd2l
 kdGglM0QlMjI2MDAlMjIlMjBoZWlnaHQlM0QlMjI0NTAlMjIlMjBzdHlsZSUzRCUyMmJvcmRlc
 iUzQTAlM0IlMjIlMjBhbGxvd2Z1bGxzY3JlZW4lM0QlMjIlMjIlMjBsb2FkaW5nJTNEJTIybGF
 6eSUyMiUyMHJlZmVycmVycG9saWN5JTNEJTIybm8tcmVmZXJyZXItd2hlbi1kb3duZ3JhZGUlM
 jIlM0UlM0MlMkZpZnJhbWUlM0U=[/vc_raw_html][/vc_column][/vc_row]
LOCATION:Casa da América Latina\, Avenida da Índia 110\, Lisboa\, Portuga
 l\, 1300-300\, Lisboa\, Portugal
X-APPLE-STRUCTURED-LOCATION;VALUE=URI;X-ADDRESS=Avenida da Índia 110\, Lis
 boa\, Portugal\, 1300-300\, Lisboa\, Portugal;X-APPLE-RADIUS=100;X-TITLE=C
 asa da América Latina:geo:0,0
END:VEVENT
END:VCALENDAR