
BEGIN:VCALENDAR
VERSION:2.0
PRODID:-//wp-events-plugin.com//7.2.3.1//EN
BEGIN:VEVENT
UID:30@casamericalatina.pt
DTSTART:20251203T150000Z
DTEND:20251203T180000Z
DTSTAMP:20251124T162923Z
URL:https://casamericalatina.pt/agenda/forum-igualdade-de-genero-dinamicas
 -e-perspetivas/
SUMMARY:Fórum Igualdade de Género: Dinâmicas e Perspetivas
DESCRIPTION:A cidade de Lisboa foi escolhida para ser a sede europeia do I 
 Fórum Mulheres Mercosul-União Europeia\, que reunirá lideranças e auto
 ridades no dia 28 de outubro\, na Casa América Latina\, em Lisboa.
LOCATION:Casa da América Latina\, Avenida da Índia 110\, Lisboa\, Portuga
 l\, 1300-300\, Lisboa\, Portugal
X-APPLE-STRUCTURED-LOCATION;VALUE=URI;X-ADDRESS=Avenida da Índia 110\, Lis
 boa\, Portugal\, 1300-300\, Lisboa\, Portugal;X-APPLE-RADIUS=100;X-TITLE=C
 asa da América Latina:geo:0,0
END:VEVENT
END:VCALENDAR