
BEGIN:VCALENDAR
VERSION:2.0
PRODID:-//wp-events-plugin.com//7.2.3.1//EN
BEGIN:VEVENT
UID:26@casamericalatina.pt
DTSTART:20251011T153000Z
DTEND:20251012T173000Z
DTSTAMP:20251008T095715Z
URL:https://casamericalatina.pt/agenda/folio-puro-conto/
SUMMARY:FOLIO - Puro Conto
DESCRIPTION:Festival Puro Conto no Festival FOLIO – Óbidos
LOCATION:Livraria Artes e Letras\, R. da Porta da Vila 16\, Óbidos\, 2510-
 089\, Portugal
X-APPLE-STRUCTURED-LOCATION;VALUE=URI;X-ADDRESS=R. da Porta da Vila 16\, Ó
 bidos\, 2510-089\, Portugal;X-APPLE-RADIUS=100;X-TITLE=Livraria Artes e Le
 tras:geo:0,0
END:VEVENT
END:VCALENDAR