
BEGIN:VCALENDAR
VERSION:2.0
PRODID:-//wp-events-plugin.com//7.2.3.1//EN
BEGIN:VEVENT
UID:16@casamericalatina.pt
DTSTART:20250508T100000Z
DTEND:20250620T180000Z
DTSTAMP:20250526T090310Z
URL:https://casamericalatina.pt/agenda/exposicao-texteis-extraordinarios-t
 ecendo-a-paisagem/
SUMMARY:Exposição "Têxteis Extraordinários - Tecendo a Paisagem"
DESCRIPTION:[vc_row type="in_container" full_screen_row_position="middle" c
 olumn_margin="default" column_direction="default" column_direction_tablet=
 "default" column_direction_phone="default" scene_position="center" text_co
 lor="dark" text_align="left" row_border_radius="none" row_border_radius_ap
 plies="bg" overflow="visible" overlay_strength="0.3" gradient_direction="l
 eft_to_right" shape_divider_position="bottom" bg_image_animation="none" gr
 adient_type="default" shape_type=""][vc_column right_padding_desktop="5%" 
 column_element_direction_desktop="default" column_element_spacing="default
 " desktop_text_alignment="default" tablet_text_alignment="default" phone_t
 ext_alignment="default" background_color_opacity="1" background_hover_colo
 r_opacity="1" column_backdrop_filter="none" column_shadow="none" column_bo
 rder_radius="none" column_link_target="_self" column_position="default" gr
 adient_direction="left_to_right" overlay_strength="0.3" width="1/2" tablet
 _width_inherit="default" animation_type="default" bg_image_animation="none
 " border_type="simple" column_border_width="none" column_border_style="sol
 id" column_padding_type="advanced" gradient_type="default"][vc_custom_head
 ing source="post_title" font_container="tag:h1|font_size:18px|text_align:l
 eft" use_theme_fonts="yes" css=""][vc_column_text css="" text_direction="d
 efault"]\nExposição "Têxteis Extraordinários - Tecendo a Paisagem" de 
 Antonio Pichillá\n\n[/vc_column_text][vc_column_text css="" text_directio
 n="default"]Prosseguindo o ciclo de exposições Têxteis Extraordinários
  iniciado há 2 anos na Casa de América Latina\, acolhemos agora\, em col
 aboração com a galeria colombiana Elvira Moreno\, a exposição individu
 al Tecendo a Paisagem\, A Trama Ancestral da Paisagem Contemporânea\, do 
 artista guatemalteco Antonio Pichillá Quiacaín. Esta exposição reúne 
 uma seleção das obras mais icónicas da sua produção artística\, onde
  os tecidos\, a pintura e o vídeo interagem para redefinir a paisagem com
 o um território de identidade e memória.\n\nAtravés de fios\, madeira\,
  tinta a óleo e meios audiovisuais\, Pichillá reinterpreta a mundividên
 cia maia num contexto contemporâneo\, estabelecendo ligações entre a ar
 te ancestral e as práticas artísticas globais. O seu trabalho transforma
  o ato de tecer numa metáfora de resistência cultural\, onde cada peça 
 é uma extensão do território e um testemunho do conhecimento herdado de
  geração em geração.\n\nA exposição Tecendo a Paisagem\, que estará
  patente ao público em maio e junho de 2025\, procura gerar um espaço de
  reflexão sobre a relação entre tradição e modernidade.\n\n[/vc_colum
 n_text][image_with_animation image_url="11501" image_size="medium_large" a
 nimation_type="entrance" animation="None" animation_movement_type="transfo
 rm_y" hover_animation="none" alignment="" border_radius="none" box_shadow=
 "none" image_loading="default" max_width="100%" max_width_mobile="default"
 ][vc_column_text css="" text_direction="default"][/vc_column_text][/vc_col
 umn][vc_column column_padding="no-extra-padding" column_padding_tablet="in
 herit" column_padding_phone="inherit" column_padding_position="all" column
 _element_direction_desktop="default" column_element_spacing="default" desk
 top_text_alignment="default" tablet_text_alignment="default" phone_text_al
 ignment="default" background_color_opacity="1" background_hover_color_opac
 ity="1" column_backdrop_filter="none" column_shadow="none" column_border_r
 adius="none" column_link_target="_self" column_position="default" gradient
 _direction="left_to_right" overlay_strength="0.3" width="1/2" tablet_width
 _inherit="default" animation_type="default" bg_image_animation="none" bord
 er_type="simple" column_border_width="none" column_border_style="solid"][v
 c_raw_html css=""]JTNDaWZyYW1lJTIwc3JjJTNEJTIyaHR0cHMlM0ElMkYlMkZ3d3cuZ29v
 Z2xlLmNvbSUyRm1hcHMlMkZlbWJlZCUzRnBiJTNEJTIxMW0xOCUyMTFtMTIlMjExbTMlMjExZD
 MxNzguNzkxNjU3NzYwMDU3JTIxMmQtOS4xOTY2MzA4MjM5OTkyNDglMjEzZDM4LjY5NjcxOTU3
 MTc2NzY0JTIxMm0zJTIxMWYwJTIxMmYwJTIxM2YwJTIxM20yJTIxMWkxMDI0JTIxMmk3NjglMj
 E0ZjEzLjElMjEzbTMlMjExbTIlMjExczB4ZDE5MzQ5OTc1MjA4Y2JiJTI1M0EweGNlMGJmY2Y2
 NWEwMzkyNDElMjEyc0Nhc2ElMjUyMERhJTI1MjBBbSUyNUMzJTI1QTlyaWNhJTI1MjBMYXRpbm
 ElMjUyMC0lMjUyMEFzc29jaWElMjVDMyUyNUE3JTI1QzMlMjVBM28lMjE1ZTElMjEzbTIlMjEx
 c3B0LVBUJTIxMnNwdCUyMTR2MTcyOTY5MjI1MjUyOCUyMTVtMiUyMTFzcHQtUFQlMjEyc3B0JT
 IyJTIwd2lkdGglM0QlMjI2MDAlMjIlMjBoZWlnaHQlM0QlMjI0NTAlMjIlMjBzdHlsZSUzRCUy
 MmJvcmRlciUzQTAlM0IlMjIlMjBhbGxvd2Z1bGxzY3JlZW4lM0QlMjIlMjIlMjBsb2FkaW5nJT
 NEJTIybGF6eSUyMiUyMHJlZmVycmVycG9saWN5JTNEJTIybm8tcmVmZXJyZXItd2hlbi1kb3du
 Z3JhZGUlMjIlM0UlM0MlMkZpZnJhbWUlM0U=[/vc_raw_html][/vc_column][/vc_row]
LOCATION:Casa da América Latina\, Avenida da Índia 110\, Lisboa\, Portuga
 l\, 1300-300\, Lisboa\, Portugal
X-APPLE-STRUCTURED-LOCATION;VALUE=URI;X-ADDRESS=Avenida da Índia 110\, Lis
 boa\, Portugal\, 1300-300\, Lisboa\, Portugal;X-APPLE-RADIUS=100;X-TITLE=C
 asa da América Latina:geo:0,0
END:VEVENT
END:VCALENDAR