
BEGIN:VCALENDAR
VERSION:2.0
PRODID:-//wp-events-plugin.com//7.2.3.1//EN
BEGIN:VEVENT
UID:8@casamericalatina.pt
DTSTART:20250123T100000Z
DTEND:20250424T180000Z
DTSTAMP:20250326T150020Z
URL:https://casamericalatina.pt/agenda/exposicao-oh-selva/
SUMMARY:EXPOSIÇÃO “OH SELVA…”
DESCRIPTION:[vc_row type="in_container" full_screen_row_position="middle" c
 olumn_margin="default" column_direction="default" column_direction_tablet=
 "default" column_direction_phone="default" scene_position="center" text_co
 lor="dark" text_align="left" row_border_radius="none" row_border_radius_ap
 plies="bg" overflow="visible" overlay_strength="0.3" gradient_direction="l
 eft_to_right" shape_divider_position="bottom" bg_image_animation="none" gr
 adient_type="default" shape_type=""][vc_column right_padding_desktop="5%" 
 column_element_direction_desktop="default" column_element_spacing="default
 " desktop_text_alignment="default" tablet_text_alignment="default" phone_t
 ext_alignment="default" background_color_opacity="1" background_hover_colo
 r_opacity="1" column_backdrop_filter="none" column_shadow="none" column_bo
 rder_radius="none" column_link_target="_self" column_position="default" gr
 adient_direction="left_to_right" overlay_strength="0.3" width="1/2" tablet
 _width_inherit="default" animation_type="default" bg_image_animation="none
 " border_type="simple" column_border_width="none" column_border_style="sol
 id" column_padding_type="advanced" gradient_type="default"][vc_custom_head
 ing source="post_title" font_container="tag:h1|font_size:18px|text_align:l
 eft" use_theme_fonts="yes" css=""][vc_column_text css="" text_direction="d
 efault"]A exposição “Oh Selva…” inaugura a 23 de janeiro na Casa d
 a América Latina[/vc_column_text][vc_column_text css="" text_direction="d
 efault"]No âmbito da comemoração do primeiro centenário da sua publica
 ção\, o Governo da Colômbia designou 2024 como o ano de La Vorágine\, 
 obra-prima da literatura colombiana e latino-americana do século XX da au
 toria de José Eustasio Rivera. A comemoração foi estendida ao longo de 
 2024 e até fevereiro de 2025\, com uma vasta programação nacional e int
 ernacional liderada pelo Ministério dos Negócios Estrangeiros\, através
  da Direção dos Assuntos Culturais\, e pelo Ministério das Culturas\, A
 rtes e Saberes.[/vc_column_text][vc_column_text css="" text_direction="def
 ault"]Ler artigo completo[/vc_column_text][/vc_column][vc_column column_pa
 dding="no-extra-padding" column_padding_tablet="inherit" column_padding_ph
 one="inherit" column_padding_position="all" column_element_direction_deskt
 op="default" column_element_spacing="default" desktop_text_alignment="defa
 ult" tablet_text_alignment="default" phone_text_alignment="default" backgr
 ound_color_opacity="1" background_hover_color_opacity="1" column_backdrop_
 filter="none" column_shadow="none" column_border_radius="none" column_link
 _target="_self" column_position="default" gradient_direction="left_to_righ
 t" overlay_strength="0.3" width="1/2" tablet_width_inherit="default" anima
 tion_type="default" bg_image_animation="none" border_type="simple" column_
 border_width="none" column_border_style="solid"][vc_raw_html css=""]JTNDaW
 ZyYW1lJTIwc3JjJTNEJTIyaHR0cHMlM0ElMkYlMkZ3d3cuZ29vZ2xlLmNvbSUyRm1hcHMlMkZl
 bWJlZCUzRnBiJTNEJTIxMW0xOCUyMTFtMTIlMjExbTMlMjExZDMxNzguNzkxNjU3NzYwMDU3JT
 IxMmQtOS4xOTY2MzA4MjM5OTkyNDglMjEzZDM4LjY5NjcxOTU3MTc2NzY0JTIxMm0zJTIxMWYw
 JTIxMmYwJTIxM2YwJTIxM20yJTIxMWkxMDI0JTIxMmk3NjglMjE0ZjEzLjElMjEzbTMlMjExbT
 IlMjExczB4ZDE5MzQ5OTc1MjA4Y2JiJTI1M0EweGNlMGJmY2Y2NWEwMzkyNDElMjEyc0Nhc2El
 MjUyMERhJTI1MjBBbSUyNUMzJTI1QTlyaWNhJTI1MjBMYXRpbmElMjUyMC0lMjUyMEFzc29jaW
 ElMjVDMyUyNUE3JTI1QzMlMjVBM28lMjE1ZTElMjEzbTIlMjExc3B0LVBUJTIxMnNwdCUyMTR2
 MTcyOTY5MjI1MjUyOCUyMTVtMiUyMTFzcHQtUFQlMjEyc3B0JTIyJTIwd2lkdGglM0QlMjI2MD
 AlMjIlMjBoZWlnaHQlM0QlMjI0NTAlMjIlMjBzdHlsZSUzRCUyMmJvcmRlciUzQTAlM0IlMjIl
 MjBhbGxvd2Z1bGxzY3JlZW4lM0QlMjIlMjIlMjBsb2FkaW5nJTNEJTIybGF6eSUyMiUyMHJlZm
 VycmVycG9saWN5JTNEJTIybm8tcmVmZXJyZXItd2hlbi1kb3duZ3JhZGUlMjIlM0UlM0MlMkZp
 ZnJhbWUlM0U=[/vc_raw_html][/vc_column][/vc_row]
LOCATION:Casa da América Latina\, Avenida da Índia 110\, Lisboa\, Portuga
 l\, 1300-300\, Lisboa\, Portugal
X-APPLE-STRUCTURED-LOCATION;VALUE=URI;X-ADDRESS=Avenida da Índia 110\, Lis
 boa\, Portugal\, 1300-300\, Lisboa\, Portugal;X-APPLE-RADIUS=100;X-TITLE=C
 asa da América Latina:geo:0,0
END:VEVENT
END:VCALENDAR