
BEGIN:VCALENDAR
VERSION:2.0
PRODID:-//wp-events-plugin.com//7.2.3.1//EN
BEGIN:VEVENT
UID:42@casamericalatina.pt
DTSTART:20260422T190000Z
DTEND:20260422T204500Z
DTSTAMP:20260331T200806Z
URL:https://casamericalatina.pt/agenda/concerto-portunol-de-blas-rivera/
SUMMARY:Concerto “portuÑol” de Blás Rivera
DESCRIPTION:No dia 22 de abril\, às 19 horas\, a CAL recebe o concerto “
 portuÑol” do músico argentino Blas Rivera\, numa colaboração com a E
 mbaixada de Espanha.
LOCATION:Casa da América Latina\, Avenida da Índia 110\, Lisboa\, Portuga
 l\, 1300-300\, Lisboa\, Portugal
X-APPLE-STRUCTURED-LOCATION;VALUE=URI;X-ADDRESS=Avenida da Índia 110\, Lis
 boa\, Portugal\, 1300-300\, Lisboa\, Portugal;X-APPLE-RADIUS=100;X-TITLE=C
 asa da América Latina:geo:0,0
END:VEVENT
END:VCALENDAR