
BEGIN:VCALENDAR
VERSION:2.0
PRODID:-//wp-events-plugin.com//7.2.3.1//EN
BEGIN:VEVENT
UID:41@casamericalatina.pt
DTSTART:20260414T190000Z
DTEND:20260414T213000Z
DTSTAMP:20260330T203717Z
URL:https://casamericalatina.pt/agenda/concerto-cores-chico/
SUMMARY:Concerto Outras Cores de Chico
DESCRIPTION:No dia 14 de abril\, às 19h00\, a Casa da América Latina rece
 be o concerto “Outras Cores de Chico”. Idealizado por Ana Malta e Osca
 r Aldama Duo\, este concerto reúne releituras da obra de Chico Buarque a 
 partir de uma perspectiva latino-americana.
LOCATION:Casa da América Latina\, Avenida da Índia 110\, Lisboa\, Portuga
 l\, 1300-300\, Lisboa\, Portugal
X-APPLE-STRUCTURED-LOCATION;VALUE=URI;X-ADDRESS=Avenida da Índia 110\, Lis
 boa\, Portugal\, 1300-300\, Lisboa\, Portugal;X-APPLE-RADIUS=100;X-TITLE=C
 asa da América Latina:geo:0,0
END:VEVENT
END:VCALENDAR