
BEGIN:VCALENDAR
VERSION:2.0
PRODID:-//wp-events-plugin.com//7.2.3.1//EN
BEGIN:VEVENT
UID:17@casamericalatina.pt
DTSTART:20250523T190000Z
DTEND:20250523T210000Z
DTSTAMP:20250513T103922Z
URL:https://casamericalatina.pt/agenda/concerto-canta-brasil/
SUMMARY:Concerto Canta Brasil
DESCRIPTION:[vc_row type="in_container" full_screen_row_position="middle" c
 olumn_margin="default" column_direction="default" column_direction_tablet=
 "default" column_direction_phone="default" scene_position="center" text_co
 lor="dark" text_align="left" row_border_radius="none" row_border_radius_ap
 plies="bg" overflow="visible" overlay_strength="0.3" gradient_direction="l
 eft_to_right" shape_divider_position="bottom" bg_image_animation="none" gr
 adient_type="default" shape_type=""][vc_column right_padding_desktop="5%" 
 column_element_direction_desktop="default" column_element_spacing="default
 " desktop_text_alignment="default" tablet_text_alignment="default" phone_t
 ext_alignment="default" background_color_opacity="1" background_hover_colo
 r_opacity="1" column_backdrop_filter="none" column_shadow="none" column_bo
 rder_radius="none" column_link_target="_self" column_position="default" gr
 adient_direction="left_to_right" overlay_strength="0.3" width="1/2" tablet
 _width_inherit="default" animation_type="default" bg_image_animation="none
 " border_type="simple" column_border_width="none" column_border_style="sol
 id" column_padding_type="advanced" gradient_type="default"][vc_custom_head
 ing source="post_title" font_container="tag:h1|font_size:18px|text_align:l
 eft" use_theme_fonts="yes" css=""][vc_column_text css="" text_direction="d
 efault"]\nConcerto Canta Brasil na CAL - Entrada livre!\n[/vc_column_text]
 [vc_column_text css="" text_direction="default"]Celebrando trinta anos de 
 uma brilhante carreira artística\, a consagrada cantora brasileira Maria 
 Eugênia\, acompanhada pelo Conjunto Corda e Canto\, apresenta-se em maio 
 próximo em Portugal e Espanha\, celebrando os dois primeiros países por 
 si visitados nas suas digressões internacionais. Em Portugal\, apresentou
 -se com grande sucesso na EXPO-98.\n\nA identificação de Maria Eugênia 
 com a música veio através de uma precoce formação pianística\, seguid
 a de breve experiência teatral\, mas foi no canto que a artista alcançou
  imenso sucesso\, tanto no palco quanto numa extensa lista de gravações 
 em CDs\, DVDs e vídeos.\n\nSucesso reconhecido por um público crescente 
 e por inúmeras premiações que lhe têm sido outorgadas tanto no seu Est
 ado natal de Goiás\, quanto pelo governo brasileiro\, como a condecoraç
 ão da Ordem de Rio Branco\, do Ministério das Relações Exteriores\, pe
 la sua relevante participação no conjunto musical Grupo Solo Brasil\, pr
 ojeto criado no início do ano 2000 pelo Embaixador Lauro Moreira\, então
  Diretor do Departamento Cultural do Itamaraty\, com o objetivo de divulga
 r e promover junto de plateias estrangeiras o melhor da música popular br
 asileira\, através de um espetáculo de grande alcance cultural\, intitul
 ado "Uma viagem através da Música do Brasil". O Grupo esteve em vinte pa
 íses de quatro continentes\, incluindo Portugal\, onde realizou\, em fins
  de 2009\, dezanove apresentações em dez cidades diferentes. O êxito do
  projeto acabou também por levar o espetáculo a dezenas das mais importa
 ntes cidades brasileiras.\n\nDesde o seu início de carreira\, Maria Eugê
 nia tem demonstrado um rigoroso critério na escolha do seu rico e diversi
 ficado repertório\, buscando incluir o que há de melhor na história mus
 ical do seu país\, além de acrescentar importantes contribuições de um
  Brasil Central ainda pouco explorado pela media convencional. Nas várias
  oportunidades em que esteve em Portugal\, com o Grupo Solo Brasil e tamb
 ém com o Quarteto Corda e Canto\, Maria Eugênia destacou sempre o prazer
  de cantar para plateias locais\, que apreciam as subtilezas e a variedade
  de seu canto.\n\nAlém de Maria Eugênia\, Canta Brasil\, contará com os
  guitarristas Luis Chaffin e Pedro Braga\, que compõem há anos o duo Com
  a Corda Toda\, e com o percussionista Edilson Moraes - todos intérpretes
  integrantes originais do Grupo Solo Brasil. Finalmente\, o Embaixador Lau
 ro Moreira\, reconhecido no Brasil e em Portugal pela sua incansável atua
 ção na promoção da cultura lusófona\, participará do espetáculo int
 erpretando alguns poemas de ambos os países.\n\nTrata-se de um belo e rep
 resentativo passeio pela riqueza musical do Brasil\, que mereceu o patroc
 ínio da Secretaria de Cultura do Estado de Goiás\, e que seguramente alc
 ançará o merecido sucesso junto das plateias portuguesas.[/vc_column_tex
 t][image_with_animation image_url="11260" image_size="medium_large" animat
 ion_type="entrance" animation="None" animation_movement_type="transform_y"
  hover_animation="none" alignment="" border_radius="none" box_shadow="none
 " image_loading="default" max_width="100%" max_width_mobile="default"][vc_
 column_text css="" text_direction="default"][/vc_column_text][/vc_column][
 vc_column column_padding="no-extra-padding" column_padding_tablet="inherit
 " column_padding_phone="inherit" column_padding_position="all" column_elem
 ent_direction_desktop="default" column_element_spacing="default" desktop_t
 ext_alignment="default" tablet_text_alignment="default" phone_text_alignme
 nt="default" background_color_opacity="1" background_hover_color_opacity="
 1" column_backdrop_filter="none" column_shadow="none" column_border_radius
 ="none" column_link_target="_self" column_position="default" gradient_dire
 ction="left_to_right" overlay_strength="0.3" width="1/2" tablet_width_inhe
 rit="default" animation_type="default" bg_image_animation="none" border_ty
 pe="simple" column_border_width="none" column_border_style="solid"][vc_raw
 _html css=""]JTNDaWZyYW1lJTIwc3JjJTNEJTIyaHR0cHMlM0ElMkYlMkZ3d3cuZ29vZ2xlL
 mNvbSUyRm1hcHMlMkZlbWJlZCUzRnBiJTNEJTIxMW0xOCUyMTFtMTIlMjExbTMlMjExZDMxNzg
 uNzkxNjU3NzYwMDU3JTIxMmQtOS4xOTY2MzA4MjM5OTkyNDglMjEzZDM4LjY5NjcxOTU3MTc2N
 zY0JTIxMm0zJTIxMWYwJTIxMmYwJTIxM2YwJTIxM20yJTIxMWkxMDI0JTIxMmk3NjglMjE0ZjE
 zLjElMjEzbTMlMjExbTIlMjExczB4ZDE5MzQ5OTc1MjA4Y2JiJTI1M0EweGNlMGJmY2Y2NWEwM
 zkyNDElMjEyc0Nhc2ElMjUyMERhJTI1MjBBbSUyNUMzJTI1QTlyaWNhJTI1MjBMYXRpbmElMjU
 yMC0lMjUyMEFzc29jaWElMjVDMyUyNUE3JTI1QzMlMjVBM28lMjE1ZTElMjEzbTIlMjExc3B0L
 VBUJTIxMnNwdCUyMTR2MTcyOTY5MjI1MjUyOCUyMTVtMiUyMTFzcHQtUFQlMjEyc3B0JTIyJTI
 wd2lkdGglM0QlMjI2MDAlMjIlMjBoZWlnaHQlM0QlMjI0NTAlMjIlMjBzdHlsZSUzRCUyMmJvc
 mRlciUzQTAlM0IlMjIlMjBhbGxvd2Z1bGxzY3JlZW4lM0QlMjIlMjIlMjBsb2FkaW5nJTNEJTI
 ybGF6eSUyMiUyMHJlZmVycmVycG9saWN5JTNEJTIybm8tcmVmZXJyZXItd2hlbi1kb3duZ3JhZ
 GUlMjIlM0UlM0MlMkZpZnJhbWUlM0U=[/vc_raw_html][/vc_column][/vc_row]
LOCATION:Casa da América Latina\, Avenida da Índia 110\, Lisboa\, Portuga
 l\, 1300-300\, Lisboa\, Portugal
X-APPLE-STRUCTURED-LOCATION;VALUE=URI;X-ADDRESS=Avenida da Índia 110\, Lis
 boa\, Portugal\, 1300-300\, Lisboa\, Portugal;X-APPLE-RADIUS=100;X-TITLE=C
 asa da América Latina:geo:0,0
END:VEVENT
END:VCALENDAR