
BEGIN:VCALENDAR
VERSION:2.0
PRODID:-//wp-events-plugin.com//7.2.3.1//EN
BEGIN:VEVENT
UID:22@casamericalatina.pt
DTSTART:20250829T190000Z
DTEND:20250829T203000Z
DTSTAMP:20250818T120339Z
URL:https://casamericalatina.pt/agenda/concerto-arapy-aguasu-sinfonia-dos-
 dois-mundos/
SUMMARY:Concerto "Arapy Aguasu - Sinfonia dos Dois Mundos"
DESCRIPTION:A Casa da América Latina vai receber o concerto "Arapy Aguasu 
 – Sinfonia Entre Dois Mundos”\, uma cocriação musical do madeirense 
 Norberto Cruz e do brasileiro Eduardo Martinelli\, que reúne músicos mad
 eirenses e a Orquestra Indígena do Mato Grosso do Sul (Povo Terena).\n\nO
  projeto apresenta uma fusão das sonoridades portuguesa e indígena brasi
 leira\, misturando instrumentos de tradição europeia\, portuguesa e ind
 ígena\, inspirado-se nos sons das “marés” e das “matas”\, record
 ando as relações Brasil / Portugal e aludindo aos recursos naturais dos 
 territórios da Madeira e do Estado do Mato Grosso do Sul.\n\nO espetácul
 o\, que também visitará a ilha da Madeira\, será apresentado na Casa da
  América Latina a 29 de agosto\, dia em que se celebram os 200 anos do Tr
 atado de Paz\, Amizade e Aliança\, no qual Portugal reconheceu o Brasil e
 nquanto país independente.
LOCATION:Casa da América Latina\, Avenida da Índia 110\, Lisboa\, Portuga
 l\, 1300-300\, Lisboa\, Portugal
X-APPLE-STRUCTURED-LOCATION;VALUE=URI;X-ADDRESS=Avenida da Índia 110\, Lis
 boa\, Portugal\, 1300-300\, Lisboa\, Portugal;X-APPLE-RADIUS=100;X-TITLE=C
 asa da América Latina:geo:0,0
END:VEVENT
END:VCALENDAR