
BEGIN:VCALENDAR
VERSION:2.0
PRODID:-//wp-events-plugin.com//7.2.3.1//EN
BEGIN:VEVENT
UID:14@casamericalatina.pt
DTSTART:20250416T170000Z
DTEND:20250416T190000Z
DTSTAMP:20250407T113725Z
URL:https://casamericalatina.pt/agenda/cine-biodiverso-colombiano-ciclo-mu
 lheres-copy/
SUMMARY:Apresentação do livro "Amazónia"
DESCRIPTION:[vc_row type="in_container" full_screen_row_position="middle" c
 olumn_margin="default" column_direction="default" column_direction_tablet=
 "default" column_direction_phone="default" scene_position="center" text_co
 lor="dark" text_align="left" row_border_radius="none" row_border_radius_ap
 plies="bg" overflow="visible" overlay_strength="0.3" gradient_direction="l
 eft_to_right" shape_divider_position="bottom" bg_image_animation="none" gr
 adient_type="default" shape_type=""][vc_column right_padding_desktop="5%" 
 column_element_direction_desktop="default" column_element_spacing="default
 " desktop_text_alignment="default" tablet_text_alignment="default" phone_t
 ext_alignment="default" background_color_opacity="1" background_hover_colo
 r_opacity="1" column_backdrop_filter="none" column_shadow="none" column_bo
 rder_radius="none" column_link_target="_self" column_position="default" gr
 adient_direction="left_to_right" overlay_strength="0.3" width="1/2" tablet
 _width_inherit="default" animation_type="default" bg_image_animation="none
 " border_type="simple" column_border_width="none" column_border_style="sol
 id" column_padding_type="advanced" gradient_type="default"][vc_custom_head
 ing source="post_title" font_container="tag:h1|font_size:18px|text_align:l
 eft" use_theme_fonts="yes" css=""][vc_column_text css="" text_direction="d
 efault"]\nApresentação do livro AMAZÓNIA\, do poeta Juan Carlos Galeano
 \n[/vc_column_text][vc_column_text css="" text_direction="default"]No âmb
 ito da Exposição "OH SELVA..."\, dia 16 de abril\, às 17h00\, na Casa d
 a América Latina\, vamos conversar sobre a antologia de poemas AMAZÓNIA\
 , do poeta colombiano Juan Carlos Galeano.\n\nO livro é dedicado à selva
  amazónica colombiana\, onde o autor viveu na sua infância e juventude.
 \n\nUma antologia bilingue (Espanhol e Português) integrada no Projecto E
 CO Amazónia do CES - Universidade de Coimbra\, coordenado por Patrícia V
 ieira\, editada pela Mariposa Azual.[/vc_column_text][image_with_animation
  image_url="11152" image_size="large" animation_type="entrance" animation=
 "None" animation_movement_type="transform_y" hover_animation="none" alignm
 ent="" border_radius="none" box_shadow="none" image_loading="default" max_
 width="100%" max_width_mobile="default"][vc_column_text css="" text_direct
 ion="default"][/vc_column_text][/vc_column][vc_column column_padding="no-e
 xtra-padding" column_padding_tablet="inherit" column_padding_phone="inheri
 t" column_padding_position="all" column_element_direction_desktop="default
 " column_element_spacing="default" desktop_text_alignment="default" tablet
 _text_alignment="default" phone_text_alignment="default" background_color_
 opacity="1" background_hover_color_opacity="1" column_backdrop_filter="non
 e" column_shadow="none" column_border_radius="none" column_link_target="_s
 elf" column_position="default" gradient_direction="left_to_right" overlay_
 strength="0.3" width="1/2" tablet_width_inherit="default" animation_type="
 default" bg_image_animation="none" border_type="simple" column_border_widt
 h="none" column_border_style="solid"][vc_raw_html css=""]JTNDaWZyYW1lJTIwc
 3JjJTNEJTIyaHR0cHMlM0ElMkYlMkZ3d3cuZ29vZ2xlLmNvbSUyRm1hcHMlMkZlbWJlZCUzRnB
 iJTNEJTIxMW0xOCUyMTFtMTIlMjExbTMlMjExZDMxNzguNzkxNjU3NzYwMDU3JTIxMmQtOS4xO
 TY2MzA4MjM5OTkyNDglMjEzZDM4LjY5NjcxOTU3MTc2NzY0JTIxMm0zJTIxMWYwJTIxMmYwJTI
 xM2YwJTIxM20yJTIxMWkxMDI0JTIxMmk3NjglMjE0ZjEzLjElMjEzbTMlMjExbTIlMjExczB4Z
 DE5MzQ5OTc1MjA4Y2JiJTI1M0EweGNlMGJmY2Y2NWEwMzkyNDElMjEyc0Nhc2ElMjUyMERhJTI
 1MjBBbSUyNUMzJTI1QTlyaWNhJTI1MjBMYXRpbmElMjUyMC0lMjUyMEFzc29jaWElMjVDMyUyN
 UE3JTI1QzMlMjVBM28lMjE1ZTElMjEzbTIlMjExc3B0LVBUJTIxMnNwdCUyMTR2MTcyOTY5MjI
 1MjUyOCUyMTVtMiUyMTFzcHQtUFQlMjEyc3B0JTIyJTIwd2lkdGglM0QlMjI2MDAlMjIlMjBoZ
 WlnaHQlM0QlMjI0NTAlMjIlMjBzdHlsZSUzRCUyMmJvcmRlciUzQTAlM0IlMjIlMjBhbGxvd2Z
 1bGxzY3JlZW4lM0QlMjIlMjIlMjBsb2FkaW5nJTNEJTIybGF6eSUyMiUyMHJlZmVycmVycG9sa
 WN5JTNEJTIybm8tcmVmZXJyZXItd2hlbi1kb3duZ3JhZGUlMjIlM0UlM0MlMkZpZnJhbWUlM0U
 =[/vc_raw_html][/vc_column][/vc_row]
LOCATION:Casa da América Latina\, Avenida da Índia 110\, Lisboa\, Portuga
 l\, 1300-300\, Lisboa\, Portugal
X-APPLE-STRUCTURED-LOCATION;VALUE=URI;X-ADDRESS=Avenida da Índia 110\, Lis
 boa\, Portugal\, 1300-300\, Lisboa\, Portugal;X-APPLE-RADIUS=100;X-TITLE=C
 asa da América Latina:geo:0,0
END:VEVENT
END:VCALENDAR