
BEGIN:VCALENDAR
VERSION:2.0
PRODID:-//wp-events-plugin.com//7.2.3.1//EN
BEGIN:VEVENT
UID:34@casamericalatina.pt
DTSTART;VALUE=DATE:20251211
DTEND;VALUE=DATE:20251212
DTSTAMP:20251209T113115Z
URL:https://casamericalatina.pt/agenda/abertura-da-16a-mostra-de-cinema-da
 -america-latina/
SUMMARY:ABERTURA DA 16ª MOSTRA DE CINEMA DA AMÉRICA LATINA
DESCRIPTION:ABERTURA 16ª EDIÇÃO DA MOSTRA DE CINEMA DA AMÉRICA LATINA
LOCATION:Casa da América Latina\, Avenida da Índia 110\, Lisboa\, Portuga
 l\, 1300-300\, Lisboa\, Portugal
X-APPLE-STRUCTURED-LOCATION;VALUE=URI;X-ADDRESS=Avenida da Índia 110\, Lis
 boa\, Portugal\, 1300-300\, Lisboa\, Portugal;X-APPLE-RADIUS=100;X-TITLE=C
 asa da América Latina:geo:0,0
END:VEVENT
END:VCALENDAR