
BEGIN:VCALENDAR
VERSION:2.0
PRODID:-//wp-events-plugin.com//7.2.3.1//EN
BEGIN:VEVENT
UID:29@casamericalatina.pt
DTSTART;VALUE=DATE:20251212
DTEND;VALUE=DATE:20251215
DTSTAMP:20251209T100112Z
URL:https://casamericalatina.pt/agenda/16a-mostra-de-cinema-da-america-lat
 ina/
SUMMARY:16ª MOSTRA DE CINEMA DA AMÉRICA LATINA NO CINEMA SÃO JORGE
DESCRIPTION:16ª EDIÇÃO DA MOSTRA DE CINEMA DA AMÉRICA LATINA
LOCATION:Cinema de São Jorge\, Av. da Liberdade 175\, Lisboa\, Portugal\, 
 1250-096\, Lisboa\, Portugal
X-APPLE-STRUCTURED-LOCATION;VALUE=URI;X-ADDRESS=Av. da Liberdade 175\, Lisb
 oa\, Portugal\, 1250-096\, Lisboa\, Portugal;X-APPLE-RADIUS=100;X-TITLE=Ci
 nema de São Jorge:geo:0,0
END:VEVENT
END:VCALENDAR